BEGIN:VCALENDAR
PRODID:-//AT Content Types//AT Event//EN
VERSION:2.0
METHOD:PUBLISH
BEGIN:VEVENT
DTSTAMP:20260421T115015Z
CREATED:20140623T174627Z
UID:ATEvent-efc6ac9a0243835652e4bedb8bcf7580
LAST-MODIFIED:20140624T162426Z
SUMMARY:Central East 20mph consultation drop in\, Saltley Methodist Church
DTSTART:20140726T100000Z
DTEND:20140726T140000Z
DESCRIPTION:Talk to the 20mph project team and view plans for the Cent
 ral East Birmingham speed limit consultation\, at Saltley Methodist Ch
 urch\, 140 Alum Rock Road\, B8 1HU.
CLASS:PUBLIC
END:VEVENT
END:VCALENDAR
