BEGIN:VCALENDAR
PRODID:-//AT Content Types//AT Event//EN
VERSION:2.0
METHOD:PUBLISH
BEGIN:VEVENT
DTSTAMP:20260421T115613Z
CREATED:20140623T174627Z
UID:ATEvent-4243400c453fc3da954ec87404056336
LAST-MODIFIED:20140624T162426Z
SUMMARY:Central East 20mph consultation drop in\, Saltley Leisure Centre
DTSTART:20140717T140000Z
DTEND:20140717T180000Z
DESCRIPTION:Talk to the 20mph project team and view plans for the Cent
 ral East Birmingham speed limit consultation\, at Saltley Leisure Cent
 re\, 120 Broadway Avenue\, B9 5YD.
CLASS:PUBLIC
END:VEVENT
END:VCALENDAR
