BEGIN:VCALENDAR
PRODID:-//AT Content Types//AT Event//EN
VERSION:2.0
METHOD:PUBLISH
BEGIN:VEVENT
DTSTAMP:20260421T115331Z
CREATED:20140623T174627Z
UID:ATEvent-fe9597f6cdc6939d4978fd0e1c7b796c
LAST-MODIFIED:20140624T162426Z
SUMMARY:Central East 20mph consultation drop in\, Small Heath Leisure Centre
DTSTART:20140719T100000Z
DTEND:20140719T140000Z
DESCRIPTION:Talk to the 20mph project team and view plans for the Cent
 ral East Birmingham speed limit consultation\, at Small Heath Leisure 
 Centre\, Muntz Street\, B10 9RX.
CLASS:PUBLIC
END:VEVENT
END:VCALENDAR
