BEGIN:VCALENDAR
PRODID:-//AT Content Types//AT Event//EN
VERSION:2.0
METHOD:PUBLISH
BEGIN:VEVENT
DTSTAMP:20260421T115628Z
CREATED:20140623T174627Z
UID:ATEvent-dd273c88239fb70e5082221d983924b5
LAST-MODIFIED:20140624T162426Z
SUMMARY:Central East 20mph consultation drop in\, WM Fire Service HQ
DTSTART:20140722T140000Z
DTEND:20140722T180000Z
DESCRIPTION:Talk to the 20mph project team and view plans for the Cent
 ral East Birmingham speed limit consultation\, at WM Fire Service HQ\,
  99 Vauxhall Road\, B7 4HW.
CLASS:PUBLIC
END:VEVENT
END:VCALENDAR
