BEGIN:VCALENDAR
PRODID:-//AT Content Types//AT Event//EN
VERSION:2.0
METHOD:PUBLISH
BEGIN:VEVENT
DTSTAMP:20260421T115737Z
CREATED:20140623T173836Z
UID:ATEvent-fbd7ed9eb5ab966e038e7764a545378b
LAST-MODIFIED:20140624T162426Z
SUMMARY:Central East 20mph consultation drop in\, Ward End Library
DTSTART:20140714T140000Z
DTEND:20140714T180000Z
DESCRIPTION:Talk to the 20mph project team and view plans for the Cent
 ral East Birmingham speed limit consultation\, at Ward End Library\, W
 ashwood Heath Road\, B8 2HF.
CLASS:PUBLIC
END:VEVENT
END:VCALENDAR
