BEGIN:VCALENDAR
PRODID:-//AT Content Types//AT Event//EN
VERSION:2.0
METHOD:PUBLISH
BEGIN:VEVENT
DTSTAMP:20260420T143832Z
CREATED:20250509T100040Z
UID:ATEvent-88b00b7f7fec42d595abd9bf29778edd
LAST-MODIFIED:20250715T091832Z
SUMMARY:Drop in session - Touchbase Pears
DTSTART:20250701T150000Z
DTEND:20250701T180000Z
DESCRIPTION:An opportunity to view the plans in person\, and talk to t
 he project team. No booking needed. \nFull address: 750\, Bristol Road
 \, B29 6NA
CLASS:PUBLIC
END:VEVENT
END:VCALENDAR
