BEGIN:VCALENDAR
PRODID:-//AT Content Types//AT Event//EN
VERSION:2.0
METHOD:PUBLISH
BEGIN:VEVENT
DTSTAMP:20260420T143242Z
CREATED:20250619T151723Z
UID:ATEvent-72703f9e1998434aba1e59608506cd48
LAST-MODIFIED:20250715T091832Z
SUMMARY:Drop in session - Northfield Highstreet
DTSTART:20250712T090000Z
DTEND:20250712T120000Z
DESCRIPTION:An opportunity to view the plans in person\, and talk to t
 he project team. No booking needed.\nFull address: Tay’s Corner\, Br
 istol Road South\, B31 2NG
CLASS:PUBLIC
END:VEVENT
END:VCALENDAR
