BEGIN:VCALENDAR
PRODID:-//AT Content Types//AT Event//EN
VERSION:2.0
METHOD:PUBLISH
BEGIN:VEVENT
DTSTAMP:20260420T081237Z
CREATED:20260202T091139Z
UID:ATEvent-9446dd29365d4573975d50be29f91e66
LAST-MODIFIED:20260202T092441Z
SUMMARY:Birmingham City University drop in session
DTSTART:20260210T170000Z
DTEND:20260210T190000Z
DESCRIPTION:An opportunity to view the plans in person\, and talk to t
 he project team. No booking needed.
LOCATION:Parkside Building Atrium\, 5 Cardigan Street\, Birmingham\, B4 7BD
CLASS:PUBLIC
END:VEVENT
END:VCALENDAR
