BEGIN:VCALENDAR
PRODID:-//AT Content Types//AT Event//EN
VERSION:2.0
METHOD:PUBLISH
BEGIN:VEVENT
DTSTAMP:20260422T030927Z
CREATED:20241218T154835Z
UID:ATEvent-4c2fcb8bf3f248278d94cc2e4ed63815
LAST-MODIFIED:20241220T145247Z
SUMMARY:On-street survey
DTSTART:20250129T110000Z
DTEND:20250129T140000Z
DESCRIPTION:There will be an opportunity to speak face to face with of
 ficers and to complete the PSPO consultation survey regarding inconsid
 erate and dangerous  riding\, cycling\, skateboarding\, riding a manua
 l scooter\, riding a e-bike or e-scooter.   We will be located along N
 ew Street and High Street within the City Centre.
CLASS:PUBLIC
END:VEVENT
END:VCALENDAR
