BEGIN:VCALENDAR
PRODID:-//AT Content Types//AT Event//EN
VERSION:2.0
METHOD:PUBLISH
BEGIN:VEVENT
DTSTAMP:20260423T162801Z
CREATED:20250408T114126Z
UID:ATEvent-c8f6376004b743648808da3a99d194bb
LAST-MODIFIED:20250408T114126Z
SUMMARY:Public Engagement Event
DTSTART:20250417T090000Z
DTEND:20250417T110000Z
DESCRIPTION:Officers will be attending the proposed area\, engaging wi
 th Businesses and the public to encourage and support consultation ent
 ries.
CLASS:PUBLIC
END:VEVENT
END:VCALENDAR
