BEGIN:VCALENDAR
PRODID:-//AT Content Types//AT Event//EN
VERSION:2.0
METHOD:PUBLISH
BEGIN:VEVENT
DTSTAMP:20260423T175543Z
CREATED:20250408T114126Z
UID:ATEvent-90704eab4aae4849a309d07af5feebe7
LAST-MODIFIED:20250408T114126Z
SUMMARY:Public Engagement Event
DTSTART:20250424T110000Z
DTEND:20250424T130000Z
DESCRIPTION:Officers will be attending the proposed area\, engaging wi
 th Businesses and the public to encourage and support consultation ent
 ries.
CLASS:PUBLIC
END:VEVENT
END:VCALENDAR
