BEGIN:VCALENDAR
PRODID:-//AT Content Types//AT Event//EN
VERSION:2.0
METHOD:PUBLISH
BEGIN:VEVENT
DTSTAMP:20260424T005415Z
CREATED:20250410T144819Z
UID:ATEvent-4aa224125a6f48829d7976664b642627
LAST-MODIFIED:20250411T152853Z
SUMMARY:On-street survey
DTSTART:20250429T113000Z
DTEND:20250429T133000Z
DESCRIPTION:There will be an opportunity to speak face to face with of
 ficers and to complete the PSPO consultation survey with regards to th
 e proposed City Centre Noise PSPO.   We will be located along New Stre
 et and High Street within the City Centre.
CLASS:PUBLIC
END:VEVENT
END:VCALENDAR
