BEGIN:VCALENDAR
PRODID:-//AT Content Types//AT Event//EN
VERSION:2.0
METHOD:PUBLISH
BEGIN:VEVENT
DTSTAMP:20260424T005125Z
CREATED:20250410T144819Z
UID:ATEvent-f720e2375331496bbd2b9a602b6ffad2
LAST-MODIFIED:20250411T152853Z
SUMMARY:On-street survey
DTSTART:20250514T100000Z
DTEND:20250514T130000Z
DESCRIPTION:There will be an opportunity to speak face to face with of
 ficers and to complete the PSPO consultation survey with regards to th
 e proposed City Centre Noise PSPO.   We will be located along New Stre
 et and High Street within the City Centre.
CLASS:PUBLIC
END:VEVENT
END:VCALENDAR
