BEGIN:VCALENDAR
PRODID:-//AT Content Types//AT Event//EN
VERSION:2.0
METHOD:PUBLISH
BEGIN:VEVENT
DTSTAMP:20260424T152036Z
CREATED:20241129T100634Z
UID:ATEvent-3d67ee4cc0264120a2c1c388afdcd70b
LAST-MODIFIED:20241211T120935Z
SUMMARY:On-street survey
DTSTART:20241210T110000Z
DTEND:20241210T140000Z
DESCRIPTION:There will be an opportunity to speak face to face with of
 ficers and to complete the PSPO consultation survey on the Coventry Ro
 ad.   We will be located along the Coventry Road.
CLASS:PUBLIC
END:VEVENT
END:VCALENDAR
