BEGIN:VCALENDAR
PRODID:-//AT Content Types//AT Event//EN
VERSION:2.0
METHOD:PUBLISH
BEGIN:VEVENT
DTSTAMP:20260424T031042Z
CREATED:20131128T095715Z
UID:ATEvent-0727d235c71934da0cc665c066b7fb8a
LAST-MODIFIED:20150803T125504Z
SUMMARY:Open Public Meeting - Bournville
DTSTART:20131218T180000Z
DTEND:20131218T200000Z
DESCRIPTION:Bournville College\nLongbridge\nbournville.ac.uk/contact-u
 s\n\nTo book a place\, to explain any access requirements or for more 
 information\nEmail: servicereviews@birmingham.gov.uk\nWebsite: birming
 ham.gov.uk/budgetviews
CLASS:PUBLIC
END:VEVENT
END:VCALENDAR
