BEGIN:VCALENDAR
PRODID:-//AT Content Types//AT Event//EN
VERSION:2.0
METHOD:PUBLISH
BEGIN:VEVENT
DTSTAMP:20260424T030507Z
CREATED:20131128T095715Z
UID:ATEvent-88577e0f1283d6975d2053892b5cba59
LAST-MODIFIED:20150803T125504Z
SUMMARY:Open Public Meeting - Erdington
DTSTART:20131210T173000Z
DTEND:20131210T193000Z
DESCRIPTION:Lighthouse Suite\nSt Barnabas Church\nHigh Street. Erdingt
 on\nstbarnabaserdington.org.uk\n\nTo book a place\, to explain any acc
 ess requirements or for more information\nEmail: servicereviews@birmin
 gham.gov.uk\nWebsite: birmingham.gov.uk/budgetviews
CLASS:PUBLIC
END:VEVENT
END:VCALENDAR
