BEGIN:VCALENDAR
PRODID:-//AT Content Types//AT Event//EN
VERSION:2.0
METHOD:PUBLISH
BEGIN:VEVENT
DTSTAMP:20260424T031306Z
CREATED:20131128T095715Z
UID:ATEvent-08f2250601c98c88bf98d635639139cb
LAST-MODIFIED:20150803T125504Z
SUMMARY:Open Public Meeting - Handsworth
DTSTART:20131212T180000Z
DTEND:20131212T200000Z
DESCRIPTION:Nishkam Centre\nSoho Road\, Handsworth\nncauk.org/contact-
 us\n\nTo book a place\, to explain any access requirements or for more
  information\nEmail: servicereviews@birmingham.gov.uk\nWebsite: birmin
 gham.gov.uk/budgetviews
CLASS:PUBLIC
END:VEVENT
END:VCALENDAR
