BEGIN:VCALENDAR
PRODID:-//AT Content Types//AT Event//EN
VERSION:2.0
METHOD:PUBLISH
BEGIN:VEVENT
DTSTAMP:20260424T030331Z
CREATED:20131128T095715Z
UID:ATEvent-427e56a9fc3f1b02ce761ec4d2c341be
LAST-MODIFIED:20150803T125504Z
SUMMARY:Open Public Meeting - South Yardley
DTSTART:20131211T180000Z
DTEND:20131211T200000Z
DESCRIPTION:South Yardley Library\nYardley Road\nbirmingham.gov.uk/sou
 thyardleylibrary\n\nTo book a place\, to explain any access requiremen
 ts or for more information\nEmail: servicereviews@birmingham.gov.uk\nW
 ebsite: birmingham.gov.uk/budgetviews
CLASS:PUBLIC
END:VEVENT
END:VCALENDAR
