BEGIN:VCALENDAR
PRODID:-//AT Content Types//AT Event//EN
VERSION:2.0
METHOD:PUBLISH
BEGIN:VEVENT
DTSTAMP:20260423T182246Z
CREATED:20140908T125659Z
UID:ATEvent-919351769b02a061f79b90371318144f
LAST-MODIFIED:20140908T145821Z
SUMMARY:SEDP Consultation Event for Professionals
DTSTART:20140930T143000Z
DTEND:20140930T163000Z
DESCRIPTION:We are hosting workshops for a wide range of professionals
  to discuss this consultation as well as the local offer and education
 \, health and care process. To book a place\, email senevents@birmingh
 am.gov.uk
CLASS:PUBLIC
END:VEVENT
END:VCALENDAR
