BEGIN:VCALENDAR
PRODID:-//AT Content Types//AT Event//EN
VERSION:2.0
METHOD:PUBLISH
BEGIN:VEVENT
DTSTAMP:20260423T182323Z
CREATED:20140908T125659Z
UID:ATEvent-c92eb676413a31d54a0efa519f6be234
LAST-MODIFIED:20140908T145821Z
SUMMARY:SEDP Consultation Event for Professionals
DTSTART:20141014T143000Z
DTEND:20141014T163000Z
DESCRIPTION:We are hosting workshops for a wide range of professionals
  to discuss this consultation as well as the local offer and education
 \, health and care process. To book a place\, email senevents@birmingh
 am.gov.uk
CLASS:PUBLIC
END:VEVENT
END:VCALENDAR
