BEGIN:VCALENDAR
PRODID:-//AT Content Types//AT Event//EN
VERSION:2.0
METHOD:PUBLISH
BEGIN:VEVENT
DTSTAMP:20260423T200829Z
CREATED:20140630T181537Z
UID:ATEvent-983d3d805c4eaee6046d985f89bf3826
LAST-MODIFIED:20140711T172634Z
SUMMARY:Birmingham Cycle Revolution consultation drop in\, Co-op Moseley
DTSTART:20140724T140000Z
DTEND:20140724T180000Z
DESCRIPTION:Talk to the Birmingham Cycle Revolution project team and v
 iew plans for the Alcester Road\, Bristol Street and Harborne Road cor
 ridors\, at Co-op Moseley\, 154/158 Alcester Road\, B13 8HS.
CLASS:PUBLIC
END:VEVENT
END:VCALENDAR
