BEGIN:VCALENDAR
PRODID:-//AT Content Types//AT Event//EN
VERSION:2.0
METHOD:PUBLISH
BEGIN:VEVENT
DTSTAMP:20260423T182051Z
CREATED:20140630T181538Z
UID:ATEvent-9f356293f2c82591dd9e857f20027a09
LAST-MODIFIED:20140711T172634Z
SUMMARY:Birmingham Cycle Revolution consultation drop in\, Waitrose Harborne
DTSTART:20140726T100000Z
DTEND:20140726T150000Z
DESCRIPTION:Talk to the Birmingham Cycle Revolution project team and v
 iew plans for the Alcester Road\, Bristol Street and Harborne Road cor
 ridors\, at Waitrose Harborne\, 210 High Street\, B17 9PP.
CLASS:PUBLIC
END:VEVENT
END:VCALENDAR
