BEGIN:VCALENDAR
PRODID:-//AT Content Types//AT Event//EN
VERSION:2.0
METHOD:PUBLISH
BEGIN:VEVENT
DTSTAMP:20260423T182051Z
CREATED:20140701T150706Z
UID:ATEvent-521c1b385311c42f1a537754ea343854
LAST-MODIFIED:20140711T172715Z
SUMMARY:Birmingham Cycle Revolution consultation drop in\, Halfords Selly Oak
DTSTART:20140802T100000Z
DTEND:20140802T150000Z
DESCRIPTION:Talk to the Birmingham Cycle Revolution project team and v
 iew plans for the Alcester Road\, Bristol Street and Harborne Road cor
 ridors\, at Halfords Selly Oak\, Chapel Lane\, B29 6SJ.
CLASS:PUBLIC
END:VEVENT
END:VCALENDAR
