BEGIN:VCALENDAR
PRODID:-//AT Content Types//AT Event//EN
VERSION:2.0
METHOD:PUBLISH
BEGIN:VEVENT
DTSTAMP:20260423T181922Z
CREATED:20140701T150706Z
UID:ATEvent-0ce8c9d7ac78157108a313c6cd07dd34
LAST-MODIFIED:20140711T172715Z
SUMMARY:Birmingham Cycle Revolution consultation drop in\, Botanical Gardens
DTSTART:20140729T140000Z
DTEND:20140729T180000Z
DESCRIPTION:Talk to the Birmingham Cycle Revolution project team and v
 iew plans for the Alcester Road\, Bristol Street and Harborne Road cor
 ridors\, at Birmingham Botanical Gardens - Loudon Suite\, Westbourne R
 oad\, B15 3TR.
CLASS:PUBLIC
END:VEVENT
END:VCALENDAR
