BEGIN:VCALENDAR
PRODID:-//AT Content Types//AT Event//EN
VERSION:2.0
METHOD:PUBLISH
BEGIN:VEVENT
DTSTAMP:20260423T182446Z
CREATED:20140701T150706Z
UID:ATEvent-382f4d61efc45b2963a6d6dd98f8e710
LAST-MODIFIED:20140711T172715Z
SUMMARY:Birmingham Cycle Revolution consultation drop in\, Midlands Arts Centre
DTSTART:20140730T140000Z
DTEND:20140730T180000Z
DESCRIPTION:Talk to the Birmingham Cycle Revolution project team and v
 iew plans for the Alcester Road\, Bristol Street and Harborne Road cor
 ridors\, at Midlands Arts Centre\, Cannon  Hill Park\, B12 9QH.
CLASS:PUBLIC
END:VEVENT
END:VCALENDAR
