BEGIN:VCALENDAR
PRODID:-//AT Content Types//AT Event//EN
VERSION:2.0
METHOD:PUBLISH
BEGIN:VEVENT
DTSTAMP:20260423T183944Z
CREATED:20140630T181537Z
UID:ATEvent-2a9c62744fe4313bcacb4eb9ad0af5fd
LAST-MODIFIED:20140815T092434Z
SUMMARY:Birmingham Cycle Revolution consultation drop in\, Soho Community Hall
DTSTART:20140804T140000Z
DTEND:20140804T180000Z
DESCRIPTION:Talk to the Birmingham Cycle Revolution project team and v
 iew plans for the Soho Road corridor proposals\, at Soho Community Hal
 l\, Chapel Street\, B21 0PA.
CLASS:PUBLIC
END:VEVENT
END:VCALENDAR
