BEGIN:VCALENDAR
PRODID:-//AT Content Types//AT Event//EN
VERSION:2.0
METHOD:PUBLISH
BEGIN:VEVENT
DTSTAMP:20260423T184120Z
CREATED:20140630T181538Z
UID:ATEvent-05069784c0e5dd8bead268d8030666fa
LAST-MODIFIED:20140815T092434Z
SUMMARY:Birmingham Cycle Revolution consultation drop in\, Jewellery Quarter Conference Centre
DTSTART:20140721T140000Z
DTEND:20140721T180000Z
DESCRIPTION:Talk to the Birmingham Cycle Revolution project team and v
 iew plans for the Soho Road corridor proposals\, at Jewellery Quarter 
 Conference Centre\, Federation House\, 10 Vyse Street\, B18 6LT.
CLASS:PUBLIC
END:VEVENT
END:VCALENDAR
