BEGIN:VCALENDAR
PRODID:-//AT Content Types//AT Event//EN
VERSION:2.0
METHOD:PUBLISH
BEGIN:VEVENT
DTSTAMP:20260423T183822Z
CREATED:20140630T175532Z
UID:ATEvent-1842d9dd9d8fa1205af924b6443cb29f
LAST-MODIFIED:20140815T092434Z
SUMMARY:Birmingham Cycle Revolution consultation drop in\, Handsworth Leisure Centre
DTSTART:20140719T100000Z
DTEND:20140719T150000Z
DESCRIPTION:Talk to the Birmingham Cycle Revolution project team and v
 iew plans for the Soho Road corridor proposals\, at Handsworth Leisure
  Centre\, Holly Road\, B20 2BY.
CLASS:PUBLIC
END:VEVENT
END:VCALENDAR
