BEGIN:VCALENDAR
PRODID:-//AT Content Types//AT Event//EN
VERSION:2.0
METHOD:PUBLISH
BEGIN:VEVENT
DTSTAMP:20260423T153335Z
CREATED:20230526T102853Z
UID:ATEvent-dbe690c3084c4432978fb7184666164a
LAST-MODIFIED:20230919T102151Z
SUMMARY:Drop in session - Dame Elizabeth Hall
DTSTART:20230624T090000Z
DTEND:20230624T120000Z
DESCRIPTION:Come along to chat with members of the team\, ask question
 s and give us your feedback. No need to book\, just turn up at any tim
 e.\nLocation: Dame Elizabeth Hall\, Firbank Cl\, Bournville\, Birmingh
 am B30 1UA
CLASS:PUBLIC
END:VEVENT
END:VCALENDAR
