BEGIN:VCALENDAR
PRODID:-//AT Content Types//AT Event//EN
VERSION:2.0
METHOD:PUBLISH
BEGIN:VEVENT
DTSTAMP:20260423T153335Z
CREATED:20230525T133434Z
UID:ATEvent-f7f50825675349feb2fae16421686426
LAST-MODIFIED:20230919T102151Z
SUMMARY:Drop in session - Selly Oak Methodist Church
DTSTART:20230620T150000Z
DTEND:20230620T180000Z
DESCRIPTION:Come along to chat with members of the team\, ask question
 s and give us your feedback. No need to book\, just turn up at any tim
 e.\nLocation: Langleys Rd\, Selly Oak\, Birmingham B29 6HT
CLASS:PUBLIC
END:VEVENT
END:VCALENDAR
