BEGIN:VCALENDAR
PRODID:-//AT Content Types//AT Event//EN
VERSION:2.0
METHOD:PUBLISH
BEGIN:VEVENT
DTSTAMP:20260423T152637Z
CREATED:20230525T133434Z
UID:ATEvent-d19439a275ed4a608e39e99ffea026cb
LAST-MODIFIED:20230919T102151Z
SUMMARY:Teams live briefing session
DTSTART:20230614T163000Z
DTEND:20230614T173000Z
DESCRIPTION:We will give a presentation on the Bournville and Cotterid
 ge Places for People and give you an opportunity to ask the team any q
 uestions you have. \nRegister for the event at: https://bournvillecott
 eridgepfp.eventbrite.co.uk
CLASS:PUBLIC
END:VEVENT
END:VCALENDAR
