BEGIN:VCALENDAR
PRODID:-//AT Content Types//AT Event//EN
VERSION:2.0
METHOD:PUBLISH
BEGIN:VEVENT
DTSTAMP:20260425T221505Z
CREATED:20190318T114520Z
UID:ATEvent-925bf8e8d6d14eee9f7cacbaf8533ffa
LAST-MODIFIED:20240604T085831Z
SUMMARY:Drop in event at Birmingham Council House\, B1 1BB
DTSTART:20190416T150000Z
DTEND:20190416T180000Z
DESCRIPTION:Staff will be available to discuss the proposals in the El
 len Pinsent Room\, Birmingham Council House\, Victoria Square\, B1 1BB
 
CLASS:PUBLIC
END:VEVENT
END:VCALENDAR
