BEGIN:VCALENDAR
PRODID:-//AT Content Types//AT Event//EN
VERSION:2.0
METHOD:PUBLISH
BEGIN:VEVENT
DTSTAMP:20260425T221445Z
CREATED:20190318T114520Z
UID:ATEvent-81b8449b97894f4fb90e80c8115ab62f
LAST-MODIFIED:20240604T085831Z
SUMMARY:Drop in event at Birmingham Council House\, B1 1BB
DTSTART:20190411T150000Z
DTEND:20190411T180000Z
DESCRIPTION:Staff will be available to discuss the proposals in Commit
 tee Room 2\, Birmingham Council House\, Victoria Square\, B1 1BB
CLASS:PUBLIC
END:VEVENT
END:VCALENDAR
