BEGIN:VCALENDAR
PRODID:-//AT Content Types//AT Event//EN
VERSION:2.0
METHOD:PUBLISH
BEGIN:VEVENT
DTSTAMP:20260423T115831Z
CREATED:20220610T064954Z
UID:ATEvent-f8225bc6de714ca68e0395066880f72c
LAST-MODIFIED:20220613T090604Z
SUMMARY:Drop-in session
DTSTART:20220623T130000Z
DTEND:20220623T180000Z
DESCRIPTION:Come along to chat with members of the team\, ask question
 s and give us your feedback. No need to book\, just turn up at any tim
 e.\nLocation: Sense TouchBase Pears\, 750 Bristol Road\, Selly Oak\, B
 irmingham B29 6NA\nThis will be an indoor event\, and we ask attendees
  to be considerate of others and consider wearing a mask if talking to
  staff for a long time.
CLASS:PUBLIC
END:VEVENT
END:VCALENDAR
