BEGIN:VCALENDAR
PRODID:-//AT Content Types//AT Event//EN
VERSION:2.0
METHOD:PUBLISH
BEGIN:VEVENT
DTSTAMP:20260423T153244Z
CREATED:20230228T103306Z
UID:ATEvent-69632291c6114b7caafa9ac309d28dfa
LAST-MODIFIED:20230317T153007Z
SUMMARY:Drop in event\, 103 Colmore Row
DTSTART:20230322T160000Z
DTEND:20230322T180000Z
DESCRIPTION:Staff will be available from 12pm - 2pm and 4pm - 6pm to d
 iscuss the proposals and answer any questions you may have. No booking
  needed.\n103 Colmore Row B3 3AG
CLASS:PUBLIC
END:VEVENT
END:VCALENDAR
