BEGIN:VCALENDAR
PRODID:-//AT Content Types//AT Event//EN
VERSION:2.0
METHOD:PUBLISH
BEGIN:VEVENT
DTSTAMP:20260423T153244Z
CREATED:20221222T084240Z
UID:ATEvent-29ca66c7e1ea406b9c2416141425760a
LAST-MODIFIED:20230317T153006Z
SUMMARY:Teams live event
DTSTART:20230316T173000Z
DTEND:20230316T183000Z
DESCRIPTION:An online presentation on the City Centre and Snow Hill pu
 blic realm improvements with the opportunity to ask the team any quest
 ions you have. Register to attend on eventbrite: https://ccshpublicrea
 lm.eventbrite.co.uk
CLASS:PUBLIC
END:VEVENT
END:VCALENDAR
