BEGIN:VCALENDAR
PRODID:-//AT Content Types//AT Event//EN
VERSION:2.0
METHOD:PUBLISH
BEGIN:VEVENT
DTSTAMP:20260423T152647Z
CREATED:20221222T084240Z
UID:ATEvent-51414d6df8814113a4f297372852696c
LAST-MODIFIED:20230317T153007Z
SUMMARY:Drop in event\, 103 Colmore Row
DTSTART:20230322T120000Z
DTEND:20230322T140000Z
DESCRIPTION:Staff will be available from 12pm - 2pm and 4pm - 6pm to d
 iscuss the proposals and answer any questions you may have. No booking
  needed.\n103 Colmore Row B3 3AG
CLASS:PUBLIC
END:VEVENT
END:VCALENDAR
