BEGIN:VCALENDAR
PRODID:-//AT Content Types//AT Event//EN
VERSION:2.0
METHOD:PUBLISH
BEGIN:VEVENT
DTSTAMP:20260421T064542Z
CREATED:20210217T094342Z
UID:ATEvent-3c3b31621eb24702bd5fb3a446bf2b2a
LAST-MODIFIED:20240605T140428Z
SUMMARY:Online briefing
DTSTART:20210304T180000Z
DTEND:20210304T190000Z
DESCRIPTION:Please register to attend the onine briefing at: \nhttps:/
 /attendee.gotowebinar.com/register/1512721704571163406
CLASS:PUBLIC
END:VEVENT
END:VCALENDAR
