BEGIN:VCALENDAR
PRODID:-//AT Content Types//AT Event//EN
VERSION:2.0
METHOD:PUBLISH
BEGIN:VEVENT
DTSTAMP:20260421T113546Z
CREATED:20190404T091218Z
UID:ATEvent-f49ad3ef8d45400391908202dc5610eb
LAST-MODIFIED:20210611T151814Z
SUMMARY:Christ Church Selly Oak
DTSTART:20190514T170000Z
DTEND:20190514T193000Z
DESCRIPTION:Drop in session
CLASS:PUBLIC
END:VEVENT
END:VCALENDAR
