BEGIN:VCALENDAR
PRODID:-//AT Content Types//AT Event//EN
VERSION:2.0
METHOD:PUBLISH
BEGIN:VEVENT
DTSTAMP:20260421T114101Z
CREATED:20190404T091218Z
UID:ATEvent-b27097373b644474aff6b5e7ad75189c
LAST-MODIFIED:20210611T151814Z
SUMMARY:Edgbaston Community Centre
DTSTART:20190521T130000Z
DTEND:20190521T150000Z
DESCRIPTION:Drop in session
CLASS:PUBLIC
END:VEVENT
END:VCALENDAR
