BEGIN:VCALENDAR
PRODID:-//AT Content Types//AT Event//EN
VERSION:2.0
METHOD:PUBLISH
BEGIN:VEVENT
DTSTAMP:20260421T113822Z
CREATED:20190404T091218Z
UID:ATEvent-ee318fdfe8544914ae2dec6805b5f386
LAST-MODIFIED:20210611T151814Z
SUMMARY:Harborne Library
DTSTART:20190430T080000Z
DTEND:20190512T160000Z
DESCRIPTION:Fixed display with consultation information
CLASS:PUBLIC
END:VEVENT
END:VCALENDAR
