BEGIN:VCALENDAR
PRODID:-//AT Content Types//AT Event//EN
VERSION:2.0
METHOD:PUBLISH
BEGIN:VEVENT
DTSTAMP:20260421T114041Z
CREATED:20190404T091218Z
UID:ATEvent-3a1bb2626cf54cabb8e5c02c9ef1c78b
LAST-MODIFIED:20210611T151814Z
SUMMARY:Martineau Gardens
DTSTART:20190517T130000Z
DTEND:20190517T170000Z
DESCRIPTION:Drop in session
CLASS:PUBLIC
END:VEVENT
END:VCALENDAR
