BEGIN:VCALENDAR
PRODID:-//AT Content Types//AT Event//EN
VERSION:2.0
METHOD:PUBLISH
BEGIN:VEVENT
DTSTAMP:20260421T130728Z
CREATED:20190404T091218Z
UID:ATEvent-f45a411b4863481cb221898fbc16bb2b
LAST-MODIFIED:20210611T151814Z
SUMMARY:Water Mill School
DTSTART:20190507T130000Z
DTEND:20190507T170000Z
DESCRIPTION:Drop in session
CLASS:PUBLIC
END:VEVENT
END:VCALENDAR
