BEGIN:VCALENDAR
PRODID:-//AT Content Types//AT Event//EN
VERSION:2.0
METHOD:PUBLISH
BEGIN:VEVENT
DTSTAMP:20260423T084307Z
CREATED:20190404T111526Z
UID:ATEvent-6ba2452923e14455bddbeca4b4658851
LAST-MODIFIED:20210611T152115Z
SUMMARY:Harborne Pool and Fitness Centre
DTSTART:20190508T100000Z
DTEND:20190508T140000Z
DESCRIPTION:Drop in session
CLASS:PUBLIC
END:VEVENT
END:VCALENDAR
