BEGIN:VCALENDAR
PRODID:-//AT Content Types//AT Event//EN
VERSION:2.0
METHOD:PUBLISH
BEGIN:VEVENT
DTSTAMP:20260423T084143Z
CREATED:20190404T111526Z
UID:ATEvent-f013c6d6ee8244c9aa1b828fe0ea2557
LAST-MODIFIED:20210611T152115Z
SUMMARY:Touchbase Pears
DTSTART:20190515T100000Z
DTEND:20190515T140000Z
DESCRIPTION:Drop in session
CLASS:PUBLIC
END:VEVENT
END:VCALENDAR
