BEGIN:VCALENDAR
PRODID:-//AT Content Types//AT Event//EN
VERSION:2.0
METHOD:PUBLISH
BEGIN:VEVENT
DTSTAMP:20260423T034803Z
CREATED:20180815T105654Z
UID:ATEvent-be5caadd9f73abeb3088009642af606b
LAST-MODIFIED:20240605T143618Z
SUMMARY:Drop in event\, Birmingham
DTSTART:20180922T080000Z
DTEND:20180922T140000Z
DESCRIPTION:View plans and speak to members of the project team at Hig
 h Street\, Birmingham city centre\, B4 7SL
CLASS:PUBLIC
END:VEVENT
END:VCALENDAR
