BEGIN:VCALENDAR
PRODID:-//AT Content Types//AT Event//EN
VERSION:2.0
METHOD:PUBLISH
BEGIN:VEVENT
DTSTAMP:20260423T113310Z
CREATED:20200124T114849Z
UID:ATEvent-b116f7cc64d9455db118dcd549cafa5a
LAST-MODIFIED:20240604T085751Z
SUMMARY:Drop in session - city centre
DTSTART:20200222T100000Z
DTEND:20200222T130000Z
DESCRIPTION:Come along to chat  with members of the team\, ask questio
 ns and give us your feedback. No need to book\, just turn up at any ti
 me.\n\nAt Council House\, Victoria Square\, Birmingham\, B1 1BB.
CLASS:PUBLIC
END:VEVENT
END:VCALENDAR
