BEGIN:VCALENDAR
PRODID:-//AT Content Types//AT Event//EN
VERSION:2.0
METHOD:PUBLISH
BEGIN:VEVENT
DTSTAMP:20260423T112942Z
CREATED:20200124T124156Z
UID:ATEvent-103e8155236543668011195bf18618ab
LAST-MODIFIED:20240604T085752Z
SUMMARY:Drop in session - Saltley
DTSTART:20200304T160000Z
DTEND:20200304T190000Z
DESCRIPTION:Come along to chat  with members of the team\, ask questio
 ns and give us your feedback. No need to book\, just turn up at any ti
 me.\n\nAt Saltley Methodist Church\, 150 Alum Rock Road\, Saltley\, B8
  1HU.
CLASS:PUBLIC
END:VEVENT
END:VCALENDAR
