BEGIN:VCALENDAR
PRODID:-//AT Content Types//AT Event//EN
VERSION:2.0
METHOD:PUBLISH
BEGIN:VEVENT
DTSTAMP:20260423T113355Z
CREATED:20200124T114849Z
UID:ATEvent-e62db873520e46089f3d9a6e14e5a322
LAST-MODIFIED:20240604T085751Z
SUMMARY:Drop in session - Selly Oak
DTSTART:20200225T160000Z
DTEND:20200225T190000Z
DESCRIPTION:Come along to chat  with members of the team\, ask questio
 ns and give us your feedback. No need to book\, just turn up at any ti
 me.\n\nAt Sense Touchbase Pears\, 750 Bristol Road\, Selly Oak\, B29 6
 NA.
CLASS:PUBLIC
END:VEVENT
END:VCALENDAR
