BEGIN:VCALENDAR
PRODID:-//AT Content Types//AT Event//EN
VERSION:2.0
METHOD:PUBLISH
BEGIN:VEVENT
DTSTAMP:20260423T113545Z
CREATED:20200124T114850Z
UID:ATEvent-62f79acd6dfc4f12ab064e09fe989e1b
LAST-MODIFIED:20240604T085751Z
SUMMARY:Drop in session - Sutton Coldfield
DTSTART:20200211T160000Z
DTEND:20200211T190000Z
DESCRIPTION:Come along to chat  with members of the team\, ask questio
 ns and give us your feedback. No need to book\, just turn up at any ti
 me.\n\nAt Trinity Centre\, Church Hill\, Mill Street\, Sutton Coldfiel
 d\, B72 1TF.
CLASS:PUBLIC
END:VEVENT
END:VCALENDAR
